BEGIN:VCALENDAR
VERSION:2.0
PRODID:-//The Engineers Club of Dayton - ECPv6.15.20//NONSGML v1.0//EN
CALSCALE:GREGORIAN
METHOD:PUBLISH
X-WR-CALNAME:The Engineers Club of Dayton
X-ORIGINAL-URL:https://engineersclub.org
X-WR-CALDESC:Events for The Engineers Club of Dayton
REFRESH-INTERVAL;VALUE=DURATION:PT1H
X-Robots-Tag:noindex
X-PUBLISHED-TTL:PT1H
BEGIN:VTIMEZONE
TZID:America/New_York
BEGIN:DAYLIGHT
TZOFFSETFROM:-0500
TZOFFSETTO:-0400
TZNAME:EDT
DTSTART:20250309T070000
END:DAYLIGHT
BEGIN:STANDARD
TZOFFSETFROM:-0400
TZOFFSETTO:-0500
TZNAME:EST
DTSTART:20251102T060000
END:STANDARD
BEGIN:DAYLIGHT
TZOFFSETFROM:-0500
TZOFFSETTO:-0400
TZNAME:EDT
DTSTART:20260308T070000
END:DAYLIGHT
BEGIN:STANDARD
TZOFFSETFROM:-0400
TZOFFSETTO:-0500
TZNAME:EST
DTSTART:20261101T060000
END:STANDARD
BEGIN:DAYLIGHT
TZOFFSETFROM:-0500
TZOFFSETTO:-0400
TZNAME:EDT
DTSTART:20270314T070000
END:DAYLIGHT
BEGIN:STANDARD
TZOFFSETFROM:-0400
TZOFFSETTO:-0500
TZNAME:EST
DTSTART:20271107T060000
END:STANDARD
BEGIN:DAYLIGHT
TZOFFSETFROM:-0500
TZOFFSETTO:-0400
TZNAME:EDT
DTSTART:20280312T070000
END:DAYLIGHT
BEGIN:STANDARD
TZOFFSETFROM:-0400
TZOFFSETTO:-0500
TZNAME:EST
DTSTART:20281105T060000
END:STANDARD
BEGIN:DAYLIGHT
TZOFFSETFROM:-0500
TZOFFSETTO:-0400
TZNAME:EDT
DTSTART:20290311T070000
END:DAYLIGHT
BEGIN:STANDARD
TZOFFSETFROM:-0400
TZOFFSETTO:-0500
TZNAME:EST
DTSTART:20291104T060000
END:STANDARD
END:VTIMEZONE
BEGIN:VEVENT
DTSTART;TZID=America/New_York:20261103T133000
DTEND;TZID=America/New_York:20261103T143000
DTSTAMP:20260422T100540
CREATED:20221115T184210Z
LAST-MODIFIED:20221207T133024Z
UID:10002897-1793712600-1793716200@engineersclub.org
SUMMARY:Hybrid Ideas Committee Meeting
DESCRIPTION:The ECD Hybrid Ideas Committee will meet on the first and third Tuesdays of each month\, at 1:30 p.m. in the Club Dining Room.
URL:https://engineersclub.org/event/hybrid-ideas-committee-meeting-2/2026-11-03/
LOCATION:The Engineers Club of Dayton\, 110 E. Monument Ave.\, Dayton\, OH\, 45402\, United States
ATTACH;FMTTYPE=image/jpeg:https://engineersclub.org/wp-content/uploads/2019/09/ideascommittee2.jpg
END:VEVENT
BEGIN:VEVENT
DTSTART;TZID=America/New_York:20261201T133000
DTEND;TZID=America/New_York:20261201T143000
DTSTAMP:20260422T100540
CREATED:20221115T184210Z
LAST-MODIFIED:20221207T133024Z
UID:10002898-1796131800-1796135400@engineersclub.org
SUMMARY:Hybrid Ideas Committee Meeting
DESCRIPTION:The ECD Hybrid Ideas Committee will meet on the first and third Tuesdays of each month\, at 1:30 p.m. in the Club Dining Room.
URL:https://engineersclub.org/event/hybrid-ideas-committee-meeting-2/2026-12-01/
LOCATION:The Engineers Club of Dayton\, 110 E. Monument Ave.\, Dayton\, OH\, 45402\, United States
ATTACH;FMTTYPE=image/jpeg:https://engineersclub.org/wp-content/uploads/2019/09/ideascommittee2.jpg
END:VEVENT
BEGIN:VEVENT
DTSTART;TZID=America/New_York:20270105T133000
DTEND;TZID=America/New_York:20270105T143000
DTSTAMP:20260422T100540
CREATED:20221115T184210Z
LAST-MODIFIED:20221207T133024Z
UID:10002899-1799155800-1799159400@engineersclub.org
SUMMARY:Hybrid Ideas Committee Meeting
DESCRIPTION:The ECD Hybrid Ideas Committee will meet on the first and third Tuesdays of each month\, at 1:30 p.m. in the Club Dining Room.
URL:https://engineersclub.org/event/hybrid-ideas-committee-meeting-2/2027-01-05/
LOCATION:The Engineers Club of Dayton\, 110 E. Monument Ave.\, Dayton\, OH\, 45402\, United States
ATTACH;FMTTYPE=image/jpeg:https://engineersclub.org/wp-content/uploads/2019/09/ideascommittee2.jpg
END:VEVENT
BEGIN:VEVENT
DTSTART;TZID=America/New_York:20270202T133000
DTEND;TZID=America/New_York:20270202T143000
DTSTAMP:20260422T100540
CREATED:20221115T184210Z
LAST-MODIFIED:20221207T133024Z
UID:10002900-1801575000-1801578600@engineersclub.org
SUMMARY:Hybrid Ideas Committee Meeting
DESCRIPTION:The ECD Hybrid Ideas Committee will meet on the first and third Tuesdays of each month\, at 1:30 p.m. in the Club Dining Room.
URL:https://engineersclub.org/event/hybrid-ideas-committee-meeting-2/2027-02-02/
LOCATION:The Engineers Club of Dayton\, 110 E. Monument Ave.\, Dayton\, OH\, 45402\, United States
ATTACH;FMTTYPE=image/jpeg:https://engineersclub.org/wp-content/uploads/2019/09/ideascommittee2.jpg
END:VEVENT
BEGIN:VEVENT
DTSTART;TZID=America/New_York:20270302T133000
DTEND;TZID=America/New_York:20270302T143000
DTSTAMP:20260422T100540
CREATED:20221115T184210Z
LAST-MODIFIED:20221207T133024Z
UID:10002901-1803994200-1803997800@engineersclub.org
SUMMARY:Hybrid Ideas Committee Meeting
DESCRIPTION:The ECD Hybrid Ideas Committee will meet on the first and third Tuesdays of each month\, at 1:30 p.m. in the Club Dining Room.
URL:https://engineersclub.org/event/hybrid-ideas-committee-meeting-2/2027-03-02/
LOCATION:The Engineers Club of Dayton\, 110 E. Monument Ave.\, Dayton\, OH\, 45402\, United States
ATTACH;FMTTYPE=image/jpeg:https://engineersclub.org/wp-content/uploads/2019/09/ideascommittee2.jpg
END:VEVENT
BEGIN:VEVENT
DTSTART;TZID=America/New_York:20270406T133000
DTEND;TZID=America/New_York:20270406T143000
DTSTAMP:20260422T100540
CREATED:20221115T184210Z
LAST-MODIFIED:20221207T133024Z
UID:10002902-1807018200-1807021800@engineersclub.org
SUMMARY:Hybrid Ideas Committee Meeting
DESCRIPTION:The ECD Hybrid Ideas Committee will meet on the first and third Tuesdays of each month\, at 1:30 p.m. in the Club Dining Room.
URL:https://engineersclub.org/event/hybrid-ideas-committee-meeting-2/2027-04-06/
LOCATION:The Engineers Club of Dayton\, 110 E. Monument Ave.\, Dayton\, OH\, 45402\, United States
ATTACH;FMTTYPE=image/jpeg:https://engineersclub.org/wp-content/uploads/2019/09/ideascommittee2.jpg
END:VEVENT
BEGIN:VEVENT
DTSTART;TZID=America/New_York:20270504T133000
DTEND;TZID=America/New_York:20270504T143000
DTSTAMP:20260422T100540
CREATED:20221115T184210Z
LAST-MODIFIED:20221207T133024Z
UID:10002903-1809437400-1809441000@engineersclub.org
SUMMARY:Hybrid Ideas Committee Meeting
DESCRIPTION:The ECD Hybrid Ideas Committee will meet on the first and third Tuesdays of each month\, at 1:30 p.m. in the Club Dining Room.
URL:https://engineersclub.org/event/hybrid-ideas-committee-meeting-2/2027-05-04/
LOCATION:The Engineers Club of Dayton\, 110 E. Monument Ave.\, Dayton\, OH\, 45402\, United States
ATTACH;FMTTYPE=image/jpeg:https://engineersclub.org/wp-content/uploads/2019/09/ideascommittee2.jpg
END:VEVENT
BEGIN:VEVENT
DTSTART;TZID=America/New_York:20270601T133000
DTEND;TZID=America/New_York:20270601T143000
DTSTAMP:20260422T100540
CREATED:20221115T184210Z
LAST-MODIFIED:20221207T133024Z
UID:10002904-1811856600-1811860200@engineersclub.org
SUMMARY:Hybrid Ideas Committee Meeting
DESCRIPTION:The ECD Hybrid Ideas Committee will meet on the first and third Tuesdays of each month\, at 1:30 p.m. in the Club Dining Room.
URL:https://engineersclub.org/event/hybrid-ideas-committee-meeting-2/2027-06-01/
LOCATION:The Engineers Club of Dayton\, 110 E. Monument Ave.\, Dayton\, OH\, 45402\, United States
ATTACH;FMTTYPE=image/jpeg:https://engineersclub.org/wp-content/uploads/2019/09/ideascommittee2.jpg
END:VEVENT
BEGIN:VEVENT
DTSTART;TZID=America/New_York:20270706T133000
DTEND;TZID=America/New_York:20270706T143000
DTSTAMP:20260422T100540
CREATED:20221115T184210Z
LAST-MODIFIED:20221207T133024Z
UID:10002905-1814880600-1814884200@engineersclub.org
SUMMARY:Hybrid Ideas Committee Meeting
DESCRIPTION:The ECD Hybrid Ideas Committee will meet on the first and third Tuesdays of each month\, at 1:30 p.m. in the Club Dining Room.
URL:https://engineersclub.org/event/hybrid-ideas-committee-meeting-2/2027-07-06/
LOCATION:The Engineers Club of Dayton\, 110 E. Monument Ave.\, Dayton\, OH\, 45402\, United States
ATTACH;FMTTYPE=image/jpeg:https://engineersclub.org/wp-content/uploads/2019/09/ideascommittee2.jpg
END:VEVENT
BEGIN:VEVENT
DTSTART;TZID=America/New_York:20270803T133000
DTEND;TZID=America/New_York:20270803T143000
DTSTAMP:20260422T100540
CREATED:20221115T184210Z
LAST-MODIFIED:20221207T133024Z
UID:10002906-1817299800-1817303400@engineersclub.org
SUMMARY:Hybrid Ideas Committee Meeting
DESCRIPTION:The ECD Hybrid Ideas Committee will meet on the first and third Tuesdays of each month\, at 1:30 p.m. in the Club Dining Room.
URL:https://engineersclub.org/event/hybrid-ideas-committee-meeting-2/2027-08-03/
LOCATION:The Engineers Club of Dayton\, 110 E. Monument Ave.\, Dayton\, OH\, 45402\, United States
ATTACH;FMTTYPE=image/jpeg:https://engineersclub.org/wp-content/uploads/2019/09/ideascommittee2.jpg
END:VEVENT
BEGIN:VEVENT
DTSTART;TZID=America/New_York:20270907T133000
DTEND;TZID=America/New_York:20270907T143000
DTSTAMP:20260422T100540
CREATED:20221115T184210Z
LAST-MODIFIED:20221207T133024Z
UID:10002907-1820323800-1820327400@engineersclub.org
SUMMARY:Hybrid Ideas Committee Meeting
DESCRIPTION:The ECD Hybrid Ideas Committee will meet on the first and third Tuesdays of each month\, at 1:30 p.m. in the Club Dining Room.
URL:https://engineersclub.org/event/hybrid-ideas-committee-meeting-2/2027-09-07/
LOCATION:The Engineers Club of Dayton\, 110 E. Monument Ave.\, Dayton\, OH\, 45402\, United States
ATTACH;FMTTYPE=image/jpeg:https://engineersclub.org/wp-content/uploads/2019/09/ideascommittee2.jpg
END:VEVENT
BEGIN:VEVENT
DTSTART;TZID=America/New_York:20271005T133000
DTEND;TZID=America/New_York:20271005T143000
DTSTAMP:20260422T100540
CREATED:20221115T184210Z
LAST-MODIFIED:20221207T133024Z
UID:10002908-1822743000-1822746600@engineersclub.org
SUMMARY:Hybrid Ideas Committee Meeting
DESCRIPTION:The ECD Hybrid Ideas Committee will meet on the first and third Tuesdays of each month\, at 1:30 p.m. in the Club Dining Room.
URL:https://engineersclub.org/event/hybrid-ideas-committee-meeting-2/2027-10-05/
LOCATION:The Engineers Club of Dayton\, 110 E. Monument Ave.\, Dayton\, OH\, 45402\, United States
ATTACH;FMTTYPE=image/jpeg:https://engineersclub.org/wp-content/uploads/2019/09/ideascommittee2.jpg
END:VEVENT
BEGIN:VEVENT
DTSTART;TZID=America/New_York:20271102T133000
DTEND;TZID=America/New_York:20271102T143000
DTSTAMP:20260422T100540
CREATED:20221115T184210Z
LAST-MODIFIED:20221207T133024Z
UID:10002909-1825162200-1825165800@engineersclub.org
SUMMARY:Hybrid Ideas Committee Meeting
DESCRIPTION:The ECD Hybrid Ideas Committee will meet on the first and third Tuesdays of each month\, at 1:30 p.m. in the Club Dining Room.
URL:https://engineersclub.org/event/hybrid-ideas-committee-meeting-2/2027-11-02/
LOCATION:The Engineers Club of Dayton\, 110 E. Monument Ave.\, Dayton\, OH\, 45402\, United States
ATTACH;FMTTYPE=image/jpeg:https://engineersclub.org/wp-content/uploads/2019/09/ideascommittee2.jpg
END:VEVENT
BEGIN:VEVENT
DTSTART;TZID=America/New_York:20271207T133000
DTEND;TZID=America/New_York:20271207T143000
DTSTAMP:20260422T100540
CREATED:20221115T184210Z
LAST-MODIFIED:20221207T133024Z
UID:10002910-1828186200-1828189800@engineersclub.org
SUMMARY:Hybrid Ideas Committee Meeting
DESCRIPTION:The ECD Hybrid Ideas Committee will meet on the first and third Tuesdays of each month\, at 1:30 p.m. in the Club Dining Room.
URL:https://engineersclub.org/event/hybrid-ideas-committee-meeting-2/2027-12-07/
LOCATION:The Engineers Club of Dayton\, 110 E. Monument Ave.\, Dayton\, OH\, 45402\, United States
ATTACH;FMTTYPE=image/jpeg:https://engineersclub.org/wp-content/uploads/2019/09/ideascommittee2.jpg
END:VEVENT
BEGIN:VEVENT
DTSTART;TZID=America/New_York:20280104T133000
DTEND;TZID=America/New_York:20280104T143000
DTSTAMP:20260422T100540
CREATED:20221115T184210Z
LAST-MODIFIED:20221207T133024Z
UID:10002911-1830605400-1830609000@engineersclub.org
SUMMARY:Hybrid Ideas Committee Meeting
DESCRIPTION:The ECD Hybrid Ideas Committee will meet on the first and third Tuesdays of each month\, at 1:30 p.m. in the Club Dining Room.
URL:https://engineersclub.org/event/hybrid-ideas-committee-meeting-2/2028-01-04/
LOCATION:The Engineers Club of Dayton\, 110 E. Monument Ave.\, Dayton\, OH\, 45402\, United States
ATTACH;FMTTYPE=image/jpeg:https://engineersclub.org/wp-content/uploads/2019/09/ideascommittee2.jpg
END:VEVENT
BEGIN:VEVENT
DTSTART;TZID=America/New_York:20280201T133000
DTEND;TZID=America/New_York:20280201T143000
DTSTAMP:20260422T100540
CREATED:20221115T184210Z
LAST-MODIFIED:20221207T133024Z
UID:10002912-1833024600-1833028200@engineersclub.org
SUMMARY:Hybrid Ideas Committee Meeting
DESCRIPTION:The ECD Hybrid Ideas Committee will meet on the first and third Tuesdays of each month\, at 1:30 p.m. in the Club Dining Room.
URL:https://engineersclub.org/event/hybrid-ideas-committee-meeting-2/2028-02-01/
LOCATION:The Engineers Club of Dayton\, 110 E. Monument Ave.\, Dayton\, OH\, 45402\, United States
ATTACH;FMTTYPE=image/jpeg:https://engineersclub.org/wp-content/uploads/2019/09/ideascommittee2.jpg
END:VEVENT
BEGIN:VEVENT
DTSTART;TZID=America/New_York:20280307T133000
DTEND;TZID=America/New_York:20280307T143000
DTSTAMP:20260422T100540
CREATED:20221115T184210Z
LAST-MODIFIED:20221207T133024Z
UID:10002913-1836048600-1836052200@engineersclub.org
SUMMARY:Hybrid Ideas Committee Meeting
DESCRIPTION:The ECD Hybrid Ideas Committee will meet on the first and third Tuesdays of each month\, at 1:30 p.m. in the Club Dining Room.
URL:https://engineersclub.org/event/hybrid-ideas-committee-meeting-2/2028-03-07/
LOCATION:The Engineers Club of Dayton\, 110 E. Monument Ave.\, Dayton\, OH\, 45402\, United States
ATTACH;FMTTYPE=image/jpeg:https://engineersclub.org/wp-content/uploads/2019/09/ideascommittee2.jpg
END:VEVENT
BEGIN:VEVENT
DTSTART;TZID=America/New_York:20280404T133000
DTEND;TZID=America/New_York:20280404T143000
DTSTAMP:20260422T100540
CREATED:20221115T184210Z
LAST-MODIFIED:20221207T133024Z
UID:10002914-1838467800-1838471400@engineersclub.org
SUMMARY:Hybrid Ideas Committee Meeting
DESCRIPTION:The ECD Hybrid Ideas Committee will meet on the first and third Tuesdays of each month\, at 1:30 p.m. in the Club Dining Room.
URL:https://engineersclub.org/event/hybrid-ideas-committee-meeting-2/2028-04-04/
LOCATION:The Engineers Club of Dayton\, 110 E. Monument Ave.\, Dayton\, OH\, 45402\, United States
ATTACH;FMTTYPE=image/jpeg:https://engineersclub.org/wp-content/uploads/2019/09/ideascommittee2.jpg
END:VEVENT
BEGIN:VEVENT
DTSTART;TZID=America/New_York:20280502T133000
DTEND;TZID=America/New_York:20280502T143000
DTSTAMP:20260422T100540
CREATED:20221115T184210Z
LAST-MODIFIED:20221207T133024Z
UID:10002915-1840887000-1840890600@engineersclub.org
SUMMARY:Hybrid Ideas Committee Meeting
DESCRIPTION:The ECD Hybrid Ideas Committee will meet on the first and third Tuesdays of each month\, at 1:30 p.m. in the Club Dining Room.
URL:https://engineersclub.org/event/hybrid-ideas-committee-meeting-2/2028-05-02/
LOCATION:The Engineers Club of Dayton\, 110 E. Monument Ave.\, Dayton\, OH\, 45402\, United States
ATTACH;FMTTYPE=image/jpeg:https://engineersclub.org/wp-content/uploads/2019/09/ideascommittee2.jpg
END:VEVENT
BEGIN:VEVENT
DTSTART;TZID=America/New_York:20280606T133000
DTEND;TZID=America/New_York:20280606T143000
DTSTAMP:20260422T100540
CREATED:20221115T184210Z
LAST-MODIFIED:20221207T133024Z
UID:10002916-1843911000-1843914600@engineersclub.org
SUMMARY:Hybrid Ideas Committee Meeting
DESCRIPTION:The ECD Hybrid Ideas Committee will meet on the first and third Tuesdays of each month\, at 1:30 p.m. in the Club Dining Room.
URL:https://engineersclub.org/event/hybrid-ideas-committee-meeting-2/2028-06-06/
LOCATION:The Engineers Club of Dayton\, 110 E. Monument Ave.\, Dayton\, OH\, 45402\, United States
ATTACH;FMTTYPE=image/jpeg:https://engineersclub.org/wp-content/uploads/2019/09/ideascommittee2.jpg
END:VEVENT
BEGIN:VEVENT
DTSTART;TZID=America/New_York:20280704T133000
DTEND;TZID=America/New_York:20280704T143000
DTSTAMP:20260422T100540
CREATED:20221115T184210Z
LAST-MODIFIED:20221207T133024Z
UID:10002917-1846330200-1846333800@engineersclub.org
SUMMARY:Hybrid Ideas Committee Meeting
DESCRIPTION:The ECD Hybrid Ideas Committee will meet on the first and third Tuesdays of each month\, at 1:30 p.m. in the Club Dining Room.
URL:https://engineersclub.org/event/hybrid-ideas-committee-meeting-2/2028-07-04/
LOCATION:The Engineers Club of Dayton\, 110 E. Monument Ave.\, Dayton\, OH\, 45402\, United States
ATTACH;FMTTYPE=image/jpeg:https://engineersclub.org/wp-content/uploads/2019/09/ideascommittee2.jpg
END:VEVENT
BEGIN:VEVENT
DTSTART;TZID=America/New_York:20280801T133000
DTEND;TZID=America/New_York:20280801T143000
DTSTAMP:20260422T100540
CREATED:20221115T184210Z
LAST-MODIFIED:20221207T133024Z
UID:10002918-1848749400-1848753000@engineersclub.org
SUMMARY:Hybrid Ideas Committee Meeting
DESCRIPTION:The ECD Hybrid Ideas Committee will meet on the first and third Tuesdays of each month\, at 1:30 p.m. in the Club Dining Room.
URL:https://engineersclub.org/event/hybrid-ideas-committee-meeting-2/2028-08-01/
LOCATION:The Engineers Club of Dayton\, 110 E. Monument Ave.\, Dayton\, OH\, 45402\, United States
ATTACH;FMTTYPE=image/jpeg:https://engineersclub.org/wp-content/uploads/2019/09/ideascommittee2.jpg
END:VEVENT
BEGIN:VEVENT
DTSTART;TZID=America/New_York:20280905T133000
DTEND;TZID=America/New_York:20280905T143000
DTSTAMP:20260422T100540
CREATED:20221115T184210Z
LAST-MODIFIED:20221207T133024Z
UID:10002919-1851773400-1851777000@engineersclub.org
SUMMARY:Hybrid Ideas Committee Meeting
DESCRIPTION:The ECD Hybrid Ideas Committee will meet on the first and third Tuesdays of each month\, at 1:30 p.m. in the Club Dining Room.
URL:https://engineersclub.org/event/hybrid-ideas-committee-meeting-2/2028-09-05/
LOCATION:The Engineers Club of Dayton\, 110 E. Monument Ave.\, Dayton\, OH\, 45402\, United States
ATTACH;FMTTYPE=image/jpeg:https://engineersclub.org/wp-content/uploads/2019/09/ideascommittee2.jpg
END:VEVENT
BEGIN:VEVENT
DTSTART;TZID=America/New_York:20281003T133000
DTEND;TZID=America/New_York:20281003T143000
DTSTAMP:20260422T100540
CREATED:20221115T184210Z
LAST-MODIFIED:20221207T133024Z
UID:10002920-1854192600-1854196200@engineersclub.org
SUMMARY:Hybrid Ideas Committee Meeting
DESCRIPTION:The ECD Hybrid Ideas Committee will meet on the first and third Tuesdays of each month\, at 1:30 p.m. in the Club Dining Room.
URL:https://engineersclub.org/event/hybrid-ideas-committee-meeting-2/2028-10-03/
LOCATION:The Engineers Club of Dayton\, 110 E. Monument Ave.\, Dayton\, OH\, 45402\, United States
ATTACH;FMTTYPE=image/jpeg:https://engineersclub.org/wp-content/uploads/2019/09/ideascommittee2.jpg
END:VEVENT
BEGIN:VEVENT
DTSTART;TZID=America/New_York:20281107T133000
DTEND;TZID=America/New_York:20281107T143000
DTSTAMP:20260422T100540
CREATED:20221115T184210Z
LAST-MODIFIED:20221207T133024Z
UID:10002921-1857216600-1857220200@engineersclub.org
SUMMARY:Hybrid Ideas Committee Meeting
DESCRIPTION:The ECD Hybrid Ideas Committee will meet on the first and third Tuesdays of each month\, at 1:30 p.m. in the Club Dining Room.
URL:https://engineersclub.org/event/hybrid-ideas-committee-meeting-2/2028-11-07/
LOCATION:The Engineers Club of Dayton\, 110 E. Monument Ave.\, Dayton\, OH\, 45402\, United States
ATTACH;FMTTYPE=image/jpeg:https://engineersclub.org/wp-content/uploads/2019/09/ideascommittee2.jpg
END:VEVENT
END:VCALENDAR